BEGIN:VCALENDAR
VERSION:2.0
PRODID:-//Maine&#039;s MidCoast &amp; Islands - ECPv6.15.20//NONSGML v1.0//EN
CALSCALE:GREGORIAN
METHOD:PUBLISH
X-ORIGINAL-URL:https://mainesmidcoast.com
X-WR-CALDESC:Events for Maine&#039;s MidCoast &amp; Islands
REFRESH-INTERVAL;VALUE=DURATION:PT1H
X-Robots-Tag:noindex
X-PUBLISHED-TTL:PT1H
BEGIN:VTIMEZONE
TZID:America/New_York
BEGIN:DAYLIGHT
TZOFFSETFROM:-0500
TZOFFSETTO:-0400
TZNAME:EDT
DTSTART:20230312T070000
END:DAYLIGHT
BEGIN:STANDARD
TZOFFSETFROM:-0400
TZOFFSETTO:-0500
TZNAME:EST
DTSTART:20231105T060000
END:STANDARD
BEGIN:DAYLIGHT
TZOFFSETFROM:-0500
TZOFFSETTO:-0400
TZNAME:EDT
DTSTART:20240310T070000
END:DAYLIGHT
BEGIN:STANDARD
TZOFFSETFROM:-0400
TZOFFSETTO:-0500
TZNAME:EST
DTSTART:20241103T060000
END:STANDARD
BEGIN:DAYLIGHT
TZOFFSETFROM:-0500
TZOFFSETTO:-0400
TZNAME:EDT
DTSTART:20250309T070000
END:DAYLIGHT
BEGIN:STANDARD
TZOFFSETFROM:-0400
TZOFFSETTO:-0500
TZNAME:EST
DTSTART:20251102T060000
END:STANDARD
END:VTIMEZONE
BEGIN:VEVENT
DTSTART;VALUE=DATE:20240707
DTEND;VALUE=DATE:20240715
DTSTAMP:20260424T200634
CREATED:20240515T214630Z
LAST-MODIFIED:20240515T214630Z
UID:10000008-1720310400-1721001599@mainesmidcoast.com
SUMMARY:Union Fair and Blueberry Festival
DESCRIPTION:This popular festival will be celebrating 154 years of agricultural heritage\, especially wild blueberries. ‘Everything Blueberries’ will include cooking contests\, foods and desserts\, and the Blueberry Queen Coronation. There will be agricultural exhibits\, livestock competitions\, carnival rides\, music shows\, a demolition derby\, and a demonstration of timber sports skills by the Axe Women Loggers of Maine.
URL:https://mainesmidcoast.com/event/union-fair-and-blueberry-festival/
END:VEVENT
BEGIN:VEVENT
DTSTART;VALUE=DATE:20240713
DTEND;VALUE=DATE:20240715
DTSTAMP:20260424T200634
CREATED:20240515T214047Z
LAST-MODIFIED:20240515T214308Z
UID:10000007-1720828800-1721001599@mainesmidcoast.com
SUMMARY:North Atlantic Blues Festival
DESCRIPTION:One of the most popular blues festivals on the East Coast takes place for two days on the waterfront in Rockland. Marking its 30th year\, the festival features world-renowned blues artists and draws thousands of visitors. The festival has remained true to its roots focusing on authentic blues music and touching on soul\, jazz\, and rock. Plan on the Saturday evening club crawl when Main Street is for blues fans.
URL:https://mainesmidcoast.com/event/north-atlantic-blues-festival/
END:VEVENT
END:VCALENDAR