BEGIN:VCALENDAR
VERSION:2.0
PRODID:-//Maine&#039;s MidCoast &amp; Islands - ECPv6.15.20//NONSGML v1.0//EN
CALSCALE:GREGORIAN
METHOD:PUBLISH
X-ORIGINAL-URL:https://mainesmidcoast.com
X-WR-CALDESC:Events for Maine&#039;s MidCoast &amp; Islands
REFRESH-INTERVAL;VALUE=DURATION:PT1H
X-Robots-Tag:noindex
X-PUBLISHED-TTL:PT1H
BEGIN:VTIMEZONE
TZID:America/New_York
BEGIN:DAYLIGHT
TZOFFSETFROM:-0500
TZOFFSETTO:-0400
TZNAME:EDT
DTSTART:20230312T070000
END:DAYLIGHT
BEGIN:STANDARD
TZOFFSETFROM:-0400
TZOFFSETTO:-0500
TZNAME:EST
DTSTART:20231105T060000
END:STANDARD
BEGIN:DAYLIGHT
TZOFFSETFROM:-0500
TZOFFSETTO:-0400
TZNAME:EDT
DTSTART:20240310T070000
END:DAYLIGHT
BEGIN:STANDARD
TZOFFSETFROM:-0400
TZOFFSETTO:-0500
TZNAME:EST
DTSTART:20241103T060000
END:STANDARD
BEGIN:DAYLIGHT
TZOFFSETFROM:-0500
TZOFFSETTO:-0400
TZNAME:EDT
DTSTART:20250309T070000
END:DAYLIGHT
BEGIN:STANDARD
TZOFFSETFROM:-0400
TZOFFSETTO:-0500
TZNAME:EST
DTSTART:20251102T060000
END:STANDARD
END:VTIMEZONE
BEGIN:VEVENT
DTSTART;VALUE=DATE:20241005
DTEND;VALUE=DATE:20241007
DTSTAMP:20260424T150233
CREATED:20241001T202918Z
LAST-MODIFIED:20241001T202918Z
UID:10000014-1728086400-1728259199@mainesmidcoast.com
SUMMARY:Belfast\, Maine Craft Weekend
DESCRIPTION:For decades\, Belfast has been a destination for makers. In our historic downtown\, located on the picturesque Penobscot Bay\, you will find the arts district filled with galleries and studios\, retailers\, and restaurants. Watch maker demonstrations at Belfast Fiber Arts\, Fiddlehead Artisan Supply\, Heavenly Yarns\, Waterfall Arts\, and more. Find local open galleries and studios eager to share their work with you. Visit the local craft brewery\, Marshall Wharf Brewing\, or any of the many eateries downtown. Visit the United Farmers Market on Saturday from 9:00 a.m. – 2:00 p.m. to find makers of jewelry\, food\, crafts\, and more. As you head out of town be sure to visit Mainly Gallery and Studio for glass-blowing and visit their showroom of local Belfast artists.
URL:https://mainesmidcoast.com/event/belfast-maine-craft-weekend/
LOCATION:Belfast\, Maine\, Belfast\, ME\, United States
END:VEVENT
END:VCALENDAR