BEGIN:VCALENDAR
VERSION:2.0
PRODID:-//Maine&#039;s MidCoast &amp; Islands - ECPv6.15.20//NONSGML v1.0//EN
CALSCALE:GREGORIAN
METHOD:PUBLISH
X-WR-CALNAME:Maine&#039;s MidCoast &amp; Islands
X-ORIGINAL-URL:https://mainesmidcoast.com
X-WR-CALDESC:Events for Maine&#039;s MidCoast &amp; Islands
REFRESH-INTERVAL;VALUE=DURATION:PT1H
X-Robots-Tag:noindex
X-PUBLISHED-TTL:PT1H
BEGIN:VTIMEZONE
TZID:America/New_York
BEGIN:DAYLIGHT
TZOFFSETFROM:-0500
TZOFFSETTO:-0400
TZNAME:EDT
DTSTART:20240310T070000
END:DAYLIGHT
BEGIN:STANDARD
TZOFFSETFROM:-0400
TZOFFSETTO:-0500
TZNAME:EST
DTSTART:20241103T060000
END:STANDARD
BEGIN:DAYLIGHT
TZOFFSETFROM:-0500
TZOFFSETTO:-0400
TZNAME:EDT
DTSTART:20250309T070000
END:DAYLIGHT
BEGIN:STANDARD
TZOFFSETFROM:-0400
TZOFFSETTO:-0500
TZNAME:EST
DTSTART:20251102T060000
END:STANDARD
BEGIN:DAYLIGHT
TZOFFSETFROM:-0500
TZOFFSETTO:-0400
TZNAME:EDT
DTSTART:20260308T070000
END:DAYLIGHT
BEGIN:STANDARD
TZOFFSETFROM:-0400
TZOFFSETTO:-0500
TZNAME:EST
DTSTART:20261101T060000
END:STANDARD
END:VTIMEZONE
BEGIN:VEVENT
DTSTART;VALUE=DATE:20250222
DTEND;VALUE=DATE:20250223
DTSTAMP:20260424T083627
CREATED:20250123T205444Z
LAST-MODIFIED:20250123T205843Z
UID:10000021-1740182400-1740268799@mainesmidcoast.com
SUMMARY:4th Annual State of Maine Ice Carving Championship
DESCRIPTION:Ice sculptures and ice bars will fill downtown Belfast as artists wield chainsaws and chisels in a competition for the fourth annual State of Maine Ice Carving Championship. Interested in trying ice carving yourself? It’s not too late to apply as an amateur ice carver for the event. Ice and pedestals will be provided for carving. Entrants must bring their own tools. And yes\, cash prizes are awarded for the carvings chosen by a panel of guest judges.
URL:https://mainesmidcoast.com/event/4th-annual-state-of-maine-ice-carving-championship/
LOCATION:Belfast\, Maine\, Belfast\, ME\, United States
END:VEVENT
END:VCALENDAR