BEGIN:VCALENDAR
VERSION:2.0
PRODID:-//Maine&#039;s MidCoast &amp; Islands - ECPv6.15.20//NONSGML v1.0//EN
CALSCALE:GREGORIAN
METHOD:PUBLISH
X-WR-CALNAME:Maine&#039;s MidCoast &amp; Islands
X-ORIGINAL-URL:https://mainesmidcoast.com
X-WR-CALDESC:Events for Maine&#039;s MidCoast &amp; Islands
REFRESH-INTERVAL;VALUE=DURATION:PT1H
X-Robots-Tag:noindex
X-PUBLISHED-TTL:PT1H
BEGIN:VTIMEZONE
TZID:America/New_York
BEGIN:DAYLIGHT
TZOFFSETFROM:-0500
TZOFFSETTO:-0400
TZNAME:EDT
DTSTART:20250309T070000
END:DAYLIGHT
BEGIN:STANDARD
TZOFFSETFROM:-0400
TZOFFSETTO:-0500
TZNAME:EST
DTSTART:20251102T060000
END:STANDARD
BEGIN:DAYLIGHT
TZOFFSETFROM:-0500
TZOFFSETTO:-0400
TZNAME:EDT
DTSTART:20260308T070000
END:DAYLIGHT
BEGIN:STANDARD
TZOFFSETFROM:-0400
TZOFFSETTO:-0500
TZNAME:EST
DTSTART:20261101T060000
END:STANDARD
BEGIN:DAYLIGHT
TZOFFSETFROM:-0500
TZOFFSETTO:-0400
TZNAME:EDT
DTSTART:20270314T070000
END:DAYLIGHT
BEGIN:STANDARD
TZOFFSETFROM:-0400
TZOFFSETTO:-0500
TZNAME:EST
DTSTART:20271107T060000
END:STANDARD
END:VTIMEZONE
BEGIN:VEVENT
DTSTART;VALUE=DATE:20260227
DTEND;VALUE=DATE:20260302
DTSTAMP:20260423T144308
CREATED:20260116T170353Z
LAST-MODIFIED:20260116T170353Z
UID:10000068-1772150400-1772409599@mainesmidcoast.com
SUMMARY:State of Maine 2026 Ice Carving Championship
DESCRIPTION:For three days\, downtown Belfast will be filled with stunning ice sculptures and ice bars created by both amateur and professional ice carvers. Enjoy a drink at one of the ice bars and watch as hand tool carvers\, followed by chainsaw carvers\, craft artistic sculptures for the fifth annual State of Maine Ice Carving Championship. All ice carvings are judged by a panel of guest judges\, with cash prizes awarded to the winners. The festival begins on Friday evening with the Frost & Flannel Ice Ball at the Belfast Boat House. Dress in your favorite flannel or go all out with a ball gown and tiara.
URL:https://mainesmidcoast.com/event/state-of-maine-2026-ice-carving-championship/
END:VEVENT
END:VCALENDAR