BEGIN:VCALENDAR
VERSION:2.0
PRODID:-//Maine&#039;s MidCoast &amp; Islands - ECPv6.15.20//NONSGML v1.0//EN
CALSCALE:GREGORIAN
METHOD:PUBLISH
X-ORIGINAL-URL:https://mainesmidcoast.com
X-WR-CALDESC:Events for Maine&#039;s MidCoast &amp; Islands
REFRESH-INTERVAL;VALUE=DURATION:PT1H
X-Robots-Tag:noindex
X-PUBLISHED-TTL:PT1H
BEGIN:VTIMEZONE
TZID:America/New_York
BEGIN:DAYLIGHT
TZOFFSETFROM:-0500
TZOFFSETTO:-0400
TZNAME:EDT
DTSTART:20250309T070000
END:DAYLIGHT
BEGIN:STANDARD
TZOFFSETFROM:-0400
TZOFFSETTO:-0500
TZNAME:EST
DTSTART:20251102T060000
END:STANDARD
BEGIN:DAYLIGHT
TZOFFSETFROM:-0500
TZOFFSETTO:-0400
TZNAME:EDT
DTSTART:20260308T070000
END:DAYLIGHT
BEGIN:STANDARD
TZOFFSETFROM:-0400
TZOFFSETTO:-0500
TZNAME:EST
DTSTART:20261101T060000
END:STANDARD
BEGIN:DAYLIGHT
TZOFFSETFROM:-0500
TZOFFSETTO:-0400
TZNAME:EDT
DTSTART:20270314T070000
END:DAYLIGHT
BEGIN:STANDARD
TZOFFSETFROM:-0400
TZOFFSETTO:-0500
TZNAME:EST
DTSTART:20271107T060000
END:STANDARD
END:VTIMEZONE
BEGIN:VEVENT
DTSTART;VALUE=DATE:20260620
DTEND;VALUE=DATE:20260621
DTSTAMP:20260423T130500
CREATED:20260304T133825Z
LAST-MODIFIED:20260304T133825Z
UID:10000070-1781913600-1781999999@mainesmidcoast.com
SUMMARY:Charles Begin Memorial Lobster Boat Races
DESCRIPTION:Part of the Maine Lobster Boat Racing tradition\, this event showcases working lobster boats competing for speed\, pride\, and bragging rights in Boothbay Harbor.
URL:https://mainesmidcoast.com/event/charles-begin-memorial-lobster-boat-races/
LOCATION:Boothbay Harbor\, Maine\, Boothbay Harbor\, ME\, United States
END:VEVENT
BEGIN:VEVENT
DTSTART;VALUE=DATE:20260620
DTEND;VALUE=DATE:20260621
DTSTAMP:20260423T130500
CREATED:20260304T134120Z
LAST-MODIFIED:20260304T134120Z
UID:10000073-1781913600-1781999999@mainesmidcoast.com
SUMMARY:Fishin’ for Fashion Show
DESCRIPTION:A unique waterfront fashion show that blends coastal style with community spirit\, featuring locally inspired designs and models in a festive harbor-side setting.
URL:https://mainesmidcoast.com/event/fishin-for-fashion-show/
LOCATION:Boothbay Harbor\, Maine\, Boothbay Harbor\, ME\, United States
END:VEVENT
END:VCALENDAR