BEGIN:VCALENDAR
VERSION:2.0
PRODID:-//Maine&#039;s MidCoast &amp; Islands - ECPv6.15.20//NONSGML v1.0//EN
CALSCALE:GREGORIAN
METHOD:PUBLISH
X-WR-CALNAME:Maine&#039;s MidCoast &amp; Islands
X-ORIGINAL-URL:https://mainesmidcoast.com
X-WR-CALDESC:Events for Maine&#039;s MidCoast &amp; Islands
REFRESH-INTERVAL;VALUE=DURATION:PT1H
X-Robots-Tag:noindex
X-PUBLISHED-TTL:PT1H
BEGIN:VTIMEZONE
TZID:America/New_York
BEGIN:DAYLIGHT
TZOFFSETFROM:-0500
TZOFFSETTO:-0400
TZNAME:EDT
DTSTART:20250309T070000
END:DAYLIGHT
BEGIN:STANDARD
TZOFFSETFROM:-0400
TZOFFSETTO:-0500
TZNAME:EST
DTSTART:20251102T060000
END:STANDARD
BEGIN:DAYLIGHT
TZOFFSETFROM:-0500
TZOFFSETTO:-0400
TZNAME:EDT
DTSTART:20260308T070000
END:DAYLIGHT
BEGIN:STANDARD
TZOFFSETFROM:-0400
TZOFFSETTO:-0500
TZNAME:EST
DTSTART:20261101T060000
END:STANDARD
BEGIN:DAYLIGHT
TZOFFSETFROM:-0500
TZOFFSETTO:-0400
TZNAME:EDT
DTSTART:20270314T070000
END:DAYLIGHT
BEGIN:STANDARD
TZOFFSETFROM:-0400
TZOFFSETTO:-0500
TZNAME:EST
DTSTART:20271107T060000
END:STANDARD
END:VTIMEZONE
BEGIN:VEVENT
DTSTART;TZID=America/New_York:20260621T080000
DTEND;TZID=America/New_York:20260627T170000
DTSTAMP:20260423T130434
CREATED:20260304T133919Z
LAST-MODIFIED:20260304T133919Z
UID:10000071-1782028800-1782579600@mainesmidcoast.com
SUMMARY:Windjammer Days
DESCRIPTION:A classic coastal festival celebrating Boothbay Harbor’s maritime heritage\, Windjammer Days features tall ships\, parades\, fireworks\, live music\, and family-friendly activities all week long.
URL:https://mainesmidcoast.com/event/windjammer-days-2/
LOCATION:Boothbay Harbor\, Maine\, Boothbay Harbor\, ME\, United States
END:VEVENT
END:VCALENDAR