BEGIN:VCALENDAR
VERSION:2.0
PRODID:-//Maine&#039;s MidCoast &amp; Islands - ECPv6.15.20//NONSGML v1.0//EN
CALSCALE:GREGORIAN
METHOD:PUBLISH
X-WR-CALNAME:Maine&#039;s MidCoast &amp; Islands
X-ORIGINAL-URL:https://mainesmidcoast.com
X-WR-CALDESC:Events for Maine&#039;s MidCoast &amp; Islands
REFRESH-INTERVAL;VALUE=DURATION:PT1H
X-Robots-Tag:noindex
X-PUBLISHED-TTL:PT1H
BEGIN:VTIMEZONE
TZID:America/New_York
BEGIN:DAYLIGHT
TZOFFSETFROM:-0500
TZOFFSETTO:-0400
TZNAME:EDT
DTSTART:20230312T070000
END:DAYLIGHT
BEGIN:STANDARD
TZOFFSETFROM:-0400
TZOFFSETTO:-0500
TZNAME:EST
DTSTART:20231105T060000
END:STANDARD
BEGIN:DAYLIGHT
TZOFFSETFROM:-0500
TZOFFSETTO:-0400
TZNAME:EDT
DTSTART:20240310T070000
END:DAYLIGHT
BEGIN:STANDARD
TZOFFSETFROM:-0400
TZOFFSETTO:-0500
TZNAME:EST
DTSTART:20241103T060000
END:STANDARD
BEGIN:DAYLIGHT
TZOFFSETFROM:-0500
TZOFFSETTO:-0400
TZNAME:EDT
DTSTART:20250309T070000
END:DAYLIGHT
BEGIN:STANDARD
TZOFFSETFROM:-0400
TZOFFSETTO:-0500
TZNAME:EST
DTSTART:20251102T060000
END:STANDARD
END:VTIMEZONE
BEGIN:VEVENT
DTSTART;VALUE=DATE:20240731
DTEND;VALUE=DATE:20240805
DTSTAMP:20260424T165203
CREATED:20240517T191557Z
LAST-MODIFIED:20240517T191557Z
UID:10000009-1722384000-1722815999@mainesmidcoast.com
SUMMARY:Maine Lobster Festival
DESCRIPTION:The 77th annual Lobster Festival in Rockland is a five-day event that celebrates the maritime heritage of the MidCoast. Visitors can indulge in lobster rolls\, bisque\, lobster mac and cheese\, and of course\, steamed lobster. Local musicians and bands will perform daily. There are seafood cooking contests\, carnival rides\, arts and crafts made by local artisans\, and the not-to-be-missed Lobster Crate Races on the water.
URL:https://mainesmidcoast.com/event/maine-lobster-festival/
END:VEVENT
BEGIN:VEVENT
DTSTART;VALUE=DATE:20240816
DTEND;VALUE=DATE:20240819
DTSTAMP:20260424T165203
CREATED:20240517T194100Z
LAST-MODIFIED:20240517T194326Z
UID:10000011-1723766400-1724025599@mainesmidcoast.com
SUMMARY:Belfast Harbor Fest
DESCRIPTION:The annual Belfast Harbor Fest celebrates boating and maritime culture at Steamboat Landing and Commercial Park on the town’s beautiful waterfront. The weekend features a boat-building competition\, a classic boat show\, and the very popular Cardboard Boat Challenge. This family-friendly event includes music\, kids activities\, arts and crafts fairs\, shipyard tours\, and the 5K Bug Run/Walk.
URL:https://mainesmidcoast.com/event/belfast-harbor-fest/
END:VEVENT
BEGIN:VEVENT
DTSTART;VALUE=DATE:20240824
DTEND;VALUE=DATE:20240902
DTSTAMP:20260424T165203
CREATED:20240517T192517Z
LAST-MODIFIED:20240517T193812Z
UID:10000010-1724457600-1725235199@mainesmidcoast.com
SUMMARY:Thomas Point Beach Bluegrass Festival
DESCRIPTION:As one of the longest-running bluegrass festivals in New England\, visitors can anticipate hearing performances by renowned musicians and bands from across the country. The festival’s main stage throughout each day while fans can also enjoy workshops and jam sessions in informal settings. The natural beauty of the Thomas Point Beach Campground is a stunning backdrop for the festival.
URL:https://mainesmidcoast.com/event/thomas-point-beach-bluegrass-festival/
LOCATION:Thomas Point Beach\, 29 Meadow Rd\, Brunswick\, ME\, 04011\, United States
END:VEVENT
BEGIN:VEVENT
DTSTART;VALUE=DATE:20240830
DTEND;VALUE=DATE:20240901
DTSTAMP:20260424T165203
CREATED:20240517T194631Z
LAST-MODIFIED:20240517T194631Z
UID:10000012-1724976000-1725148799@mainesmidcoast.com
SUMMARY:Camden Windjammer Festival
DESCRIPTION:Every Labor Day weekend\, Camden hosts the arrival of the windjammer fleet into Camden Harbor. Enjoy the Schooner Talent Show\, Bay Winds Ensemble Concert at Harbor Park\, fireworks Friday night\, a pancake breakfast and chowder challenge\, the Lobster Crate Race\, Pirates of the Dark Rose\, First Fish Relay Race\, Schooner Open House\, the Nautical Dog Show\, and yes\, even more!
URL:https://mainesmidcoast.com/event/camden-windjammer-festival/
END:VEVENT
END:VCALENDAR