BEGIN:VCALENDAR
VERSION:2.0
PRODID:-//Maine&#039;s MidCoast &amp; Islands - ECPv6.15.20//NONSGML v1.0//EN
CALSCALE:GREGORIAN
METHOD:PUBLISH
X-ORIGINAL-URL:https://mainesmidcoast.com
X-WR-CALDESC:Events for Maine&#039;s MidCoast &amp; Islands
REFRESH-INTERVAL;VALUE=DURATION:PT1H
X-Robots-Tag:noindex
X-PUBLISHED-TTL:PT1H
BEGIN:VTIMEZONE
TZID:America/New_York
BEGIN:DAYLIGHT
TZOFFSETFROM:-0500
TZOFFSETTO:-0400
TZNAME:EDT
DTSTART:20240310T070000
END:DAYLIGHT
BEGIN:STANDARD
TZOFFSETFROM:-0400
TZOFFSETTO:-0500
TZNAME:EST
DTSTART:20241103T060000
END:STANDARD
BEGIN:DAYLIGHT
TZOFFSETFROM:-0500
TZOFFSETTO:-0400
TZNAME:EDT
DTSTART:20250309T070000
END:DAYLIGHT
BEGIN:STANDARD
TZOFFSETFROM:-0400
TZOFFSETTO:-0500
TZNAME:EST
DTSTART:20251102T060000
END:STANDARD
BEGIN:DAYLIGHT
TZOFFSETFROM:-0500
TZOFFSETTO:-0400
TZNAME:EDT
DTSTART:20260308T070000
END:DAYLIGHT
BEGIN:STANDARD
TZOFFSETFROM:-0400
TZOFFSETTO:-0500
TZNAME:EST
DTSTART:20261101T060000
END:STANDARD
END:VTIMEZONE
BEGIN:VEVENT
DTSTART;TZID=America/New_York:20250612T170000
DTEND;TZID=America/New_York:20250612T200000
DTSTAMP:20260424T012014
CREATED:20250324T192359Z
LAST-MODIFIED:20250324T192359Z
UID:10000028-1749747600-1749758400@mainesmidcoast.com
SUMMARY:The 12th Annual Claw Down
DESCRIPTION:Seafood lovers and foodies alike flock to Boothbay Harbor for an unforgettable night of lobster indulgence. Watch as talented local chefs go head-to-head\, crafting exquisite lobster bites for the chance to win the coveted People’s Choice Award and Judges’ Choice Award—with the top Winner earning a spot at Portland’s renowned Harvest on the Harbor in October. Set against the stunning backdrop of The Shipyard in Boothbay Harbor\, this event is the ultimate way to savor the flavors of Maine while supporting our local lobster industry.
URL:https://mainesmidcoast.com/event/the-12th-annual-claw-down/
END:VEVENT
BEGIN:VEVENT
DTSTART;VALUE=DATE:20250613
DTEND;VALUE=DATE:20250615
DTSTAMP:20260424T012014
CREATED:20250429T180247Z
LAST-MODIFIED:20250429T180247Z
UID:10000033-1749772800-1749945599@mainesmidcoast.com
SUMMARY:Rockport Donut Festival
DESCRIPTION:The Town of Rockport is excited to announce the 3rd annual Donut Festival\, a 2 day event filled with donut themed festivities. The Rockport Donut Festival will pay homage to the history of the donut here in Rockport and get the summer rolling with music\, food\, and fun for all ages.
URL:https://mainesmidcoast.com/event/rockport-donut-festival/
LOCATION:Rockport\, ME
END:VEVENT
BEGIN:VEVENT
DTSTART;VALUE=DATE:20250614
DTEND;VALUE=DATE:20250615
DTSTAMP:20260424T012014
CREATED:20250429T180758Z
LAST-MODIFIED:20250429T180758Z
UID:10000034-1749859200-1749945599@mainesmidcoast.com
SUMMARY:Fishin' For Fashion
DESCRIPTION:Mark your calendars and secure your tickets now for a day filled with innovation\, creativity\, and sustainability. Don’t miss your chance to be part of this inspiring event\, where the sea meets the runway in spectacular fashion\, and explore the Makers Market for exclusive\, one-of-a-kind finds. \nHosted at\nThe Shipyard in Boothbay Harbor\nBristol\, Maine
URL:https://mainesmidcoast.com/event/fishin-for-fashion/
LOCATION:Boothbay Harbor\, Maine\, Boothbay Harbor\, ME\, United States
END:VEVENT
BEGIN:VEVENT
DTSTART;VALUE=DATE:20250618
DTEND;VALUE=DATE:20250619
DTSTAMP:20260424T012014
CREATED:20250429T181622Z
LAST-MODIFIED:20250429T181622Z
UID:10000035-1750204800-1750291199@mainesmidcoast.com
SUMMARY:Antiques Roadshow at Coastal Maine Botanical Gardens
DESCRIPTION:ANTIQUES ROADSHOW’s event will be located outside on the grounds of Coastal Maine Botanical Gardens.
URL:https://mainesmidcoast.com/event/antiques-roadshow-at-coastal-maine-botanical-gardens/
LOCATION:Boothbay\, 105 Botanical Gardens Dr\, Boothbay\, ME\, 04537\, United States
END:VEVENT
BEGIN:VEVENT
DTSTART;VALUE=DATE:20250621
DTEND;VALUE=DATE:20250622
DTSTAMP:20260424T012014
CREATED:20250429T181959Z
LAST-MODIFIED:20250429T181959Z
UID:10000036-1750464000-1750550399@mainesmidcoast.com
SUMMARY:Farm & Homestead Day
DESCRIPTION:Farm & Homestead Day at MOFGA is a free day of hands-on learning and fun. From its beginnings in 2012 it has been presented by volunteers who delight in sharing their expertise in skills for rural and sustainable living. There are activities for all ages.
URL:https://mainesmidcoast.com/event/farm-homestead-day/
LOCATION:Unity\, Maine\, 294 Crosby Brook Road\, Unity\, ME\, 04988\, United States
END:VEVENT
BEGIN:VEVENT
DTSTART;VALUE=DATE:20250622
DTEND;VALUE=DATE:20250629
DTSTAMP:20260424T012014
CREATED:20250429T182322Z
LAST-MODIFIED:20250429T182322Z
UID:10000037-1750550400-1751155199@mainesmidcoast.com
SUMMARY:63rd Windjammer Days
DESCRIPTION:Windjammer Days marks the kick off to summer in the Boothbay region and is a time to reconnect with family\, friends and neighbors after the long winter\, an opportunity to support local businesses and welcome visitors. It is a time to honor our maritime history and celebrate the vital role it plays in the lives of all who live here.
URL:https://mainesmidcoast.com/event/63rd-windjammer-days/
LOCATION:Boothbay Harbor\, Maine\, Boothbay Harbor\, ME\, United States
END:VEVENT
BEGIN:VEVENT
DTSTART;TZID=America/New_York:20250627T170000
DTEND;TZID=America/New_York:20250629T170000
DTSTAMP:20260424T012014
CREATED:20250429T192302Z
LAST-MODIFIED:20250501T133053Z
UID:10000052-1751043600-1751216400@mainesmidcoast.com
SUMMARY:Open Art Studio and Gallery Tour
DESCRIPTION:A special weekend with over 30 Regional Art Studios and Galleries opening their doors! \nEvent maps will be available at the Opening Reception
URL:https://mainesmidcoast.com/event/open-art-studio-and-gallery-tour/
LOCATION:Damariscotta Region Chamber of Commerce\, 276 Main Street\, Damariscotta\, ME\, 04543\, United States
END:VEVENT
BEGIN:VEVENT
DTSTART;TZID=America/New_York:20250628T110000
DTEND;TZID=America/New_York:20250628T140000
DTSTAMP:20260424T012014
CREATED:20250324T194530Z
LAST-MODIFIED:20250324T195032Z
UID:10000030-1751108400-1751119200@mainesmidcoast.com
SUMMARY:Ride the Rails to Hike the Trails
DESCRIPTION:Ride the WW&F Railway to Trout Brook Preserve and enjoy a guided hike through one of Midcoast Maine’s hidden gems! Board your train at Sheepscot station for a 30 minute trip through the backwoods of Alna to Trout Brook station\, where the volunteers from Midcoast Conservancy will take you on a guided tour of the scenic Trout Brook Preserve.
URL:https://mainesmidcoast.com/event/ride-the-rails-to-hike-the-trails/2025-06-28/
LOCATION:WW&F Railway Museum\, 97 Cross Road\, Alna\, Maine\, 04535\, United States
END:VEVENT
END:VCALENDAR