BEGIN:VCALENDAR
VERSION:2.0
PRODID:-//Maine&#039;s MidCoast &amp; Islands - ECPv6.15.20//NONSGML v1.0//EN
CALSCALE:GREGORIAN
METHOD:PUBLISH
X-ORIGINAL-URL:https://mainesmidcoast.com
X-WR-CALDESC:Events for Maine&#039;s MidCoast &amp; Islands
REFRESH-INTERVAL;VALUE=DURATION:PT1H
X-Robots-Tag:noindex
X-PUBLISHED-TTL:PT1H
BEGIN:VTIMEZONE
TZID:America/New_York
BEGIN:DAYLIGHT
TZOFFSETFROM:-0500
TZOFFSETTO:-0400
TZNAME:EDT
DTSTART:20250309T070000
END:DAYLIGHT
BEGIN:STANDARD
TZOFFSETFROM:-0400
TZOFFSETTO:-0500
TZNAME:EST
DTSTART:20251102T060000
END:STANDARD
BEGIN:DAYLIGHT
TZOFFSETFROM:-0500
TZOFFSETTO:-0400
TZNAME:EDT
DTSTART:20260308T070000
END:DAYLIGHT
BEGIN:STANDARD
TZOFFSETFROM:-0400
TZOFFSETTO:-0500
TZNAME:EST
DTSTART:20261101T060000
END:STANDARD
BEGIN:DAYLIGHT
TZOFFSETFROM:-0500
TZOFFSETTO:-0400
TZNAME:EDT
DTSTART:20270314T070000
END:DAYLIGHT
BEGIN:STANDARD
TZOFFSETFROM:-0400
TZOFFSETTO:-0500
TZNAME:EST
DTSTART:20271107T060000
END:STANDARD
END:VTIMEZONE
BEGIN:VEVENT
DTSTART;VALUE=DATE:20260711
DTEND;VALUE=DATE:20260713
DTSTAMP:20260423T191829
CREATED:20260304T134540Z
LAST-MODIFIED:20260304T134540Z
UID:10000076-1783728000-1783900799@mainesmidcoast.com
SUMMARY:North Atlantic Blues Festival
DESCRIPTION:One of the East Coast’s top blues festivals\, this free waterfront event draws nationally recognized blues artists and thousands of music fans to Rockland Harbor Park.
URL:https://mainesmidcoast.com/event/north-atlantic-blues-festival-2/
LOCATION:Rockland\, ME
END:VEVENT
BEGIN:VEVENT
DTSTART;VALUE=DATE:20260718
DTEND;VALUE=DATE:20260720
DTSTAMP:20260423T191829
CREATED:20260304T134333Z
LAST-MODIFIED:20260304T134333Z
UID:10000075-1784332800-1784505599@mainesmidcoast.com
SUMMARY:Boothbay Harbor Yacht Club Regatta & Shipyard Cup Classics Challenge
DESCRIPTION:This annual regatta weekend brings classic and modern sailboats to Boothbay Harbor for competitive racing\, celebrating the region’s sailing tradition and craftsmanship.
URL:https://mainesmidcoast.com/event/boothbay-harbor-yacht-club-regatta-shipyard-cup-classics-challenge/
LOCATION:Boothbay Harbor\, Maine\, Boothbay Harbor\, ME\, United States
END:VEVENT
BEGIN:VEVENT
DTSTART;VALUE=DATE:20260729
DTEND;VALUE=DATE:20260803
DTSTAMP:20260423T191829
CREATED:20260304T134636Z
LAST-MODIFIED:20260304T134636Z
UID:10000077-1785283200-1785715199@mainesmidcoast.com
SUMMARY:Maine Lobster Festival
DESCRIPTION:A signature Maine summer event celebrating the state’s iconic crustacean\, featuring fresh lobster\, cooking contests\, parades\, live music\, and harbor activities.
URL:https://mainesmidcoast.com/event/maine-lobster-festival-3/
LOCATION:Rockland\, ME
END:VEVENT
BEGIN:VEVENT
DTSTART;VALUE=DATE:20260805
DTEND;VALUE=DATE:20260810
DTSTAMP:20260423T191829
CREATED:20260304T134732Z
LAST-MODIFIED:20260304T134732Z
UID:10000078-1785888000-1786319999@mainesmidcoast.com
SUMMARY:Union Fair / Maine’s Wild Blueberry Festival – Union
DESCRIPTION:A classic agricultural fair with livestock shows\, rides\, contests\, and a celebration of Maine’s wild blueberry season.
URL:https://mainesmidcoast.com/event/union-fair-maines-wild-blueberry-festival-union/
LOCATION:Union\, Maine\, Fairgrounds Ln\, Union\, ME\, 04862\, United States
END:VEVENT
BEGIN:VEVENT
DTSTART;VALUE=DATE:20260807
DTEND;VALUE=DATE:20260810
DTSTAMP:20260423T191829
CREATED:20260304T134836Z
LAST-MODIFIED:20260304T134836Z
UID:10000079-1786060800-1786319999@mainesmidcoast.com
SUMMARY:Maine Boat & Home Show – Rockland
DESCRIPTION:A water-side showcase of boats\, marine gear\, local artisans\, educational seminars\, and family-friendly exhibits celebrating coastal craftsmanship.
URL:https://mainesmidcoast.com/event/maine-boat-home-show-rockland/
LOCATION:Rockland\, ME
END:VEVENT
BEGIN:VEVENT
DTSTART;VALUE=DATE:20260812
DTEND;VALUE=DATE:20260817
DTSTAMP:20260423T191829
CREATED:20260304T134931Z
LAST-MODIFIED:20260304T134931Z
UID:10000080-1786492800-1786924799@mainesmidcoast.com
SUMMARY:Screen Door Festival – Camden
DESCRIPTION:A five-day classical and contemporary music festival featuring multiple live performances in scenic Midcoast venues like Hammer Hall and the village green.
URL:https://mainesmidcoast.com/event/screen-door-festival-camden/
LOCATION:Camden\, Maine
END:VEVENT
END:VCALENDAR