BEGIN:VCALENDAR
VERSION:2.0
PRODID:-//Maine&#039;s MidCoast &amp; Islands - ECPv6.15.20//NONSGML v1.0//EN
CALSCALE:GREGORIAN
METHOD:PUBLISH
X-WR-CALNAME:Maine&#039;s MidCoast &amp; Islands
X-ORIGINAL-URL:https://mainesmidcoast.com
X-WR-CALDESC:Events for Maine&#039;s MidCoast &amp; Islands
REFRESH-INTERVAL;VALUE=DURATION:PT1H
X-Robots-Tag:noindex
X-PUBLISHED-TTL:PT1H
BEGIN:VTIMEZONE
TZID:America/New_York
BEGIN:DAYLIGHT
TZOFFSETFROM:-0500
TZOFFSETTO:-0400
TZNAME:EDT
DTSTART:20230312T070000
END:DAYLIGHT
BEGIN:STANDARD
TZOFFSETFROM:-0400
TZOFFSETTO:-0500
TZNAME:EST
DTSTART:20231105T060000
END:STANDARD
BEGIN:DAYLIGHT
TZOFFSETFROM:-0500
TZOFFSETTO:-0400
TZNAME:EDT
DTSTART:20240310T070000
END:DAYLIGHT
BEGIN:STANDARD
TZOFFSETFROM:-0400
TZOFFSETTO:-0500
TZNAME:EST
DTSTART:20241103T060000
END:STANDARD
BEGIN:DAYLIGHT
TZOFFSETFROM:-0500
TZOFFSETTO:-0400
TZNAME:EDT
DTSTART:20250309T070000
END:DAYLIGHT
BEGIN:STANDARD
TZOFFSETFROM:-0400
TZOFFSETTO:-0500
TZNAME:EST
DTSTART:20251102T060000
END:STANDARD
END:VTIMEZONE
BEGIN:VEVENT
DTSTART;VALUE=DATE:20240623
DTEND;VALUE=DATE:20240630
DTSTAMP:20260423T200639
CREATED:20240314T164830Z
LAST-MODIFIED:20240515T213725Z
UID:10000005-1719100800-1719705599@mainesmidcoast.com
SUMMARY:Windjammer Days
DESCRIPTION:Summer unofficially begins with a lively week-long celebration of Boothbay’s maritime history. The parade of windjammers under full sail is a majestic event. You can also enjoy a lighted boat parade at night and another parade of beautiful vintage boats. A colorful street parade\, tug of war\, fireworks on the water\, and a zany codfish relay race are just part of the action along the harbor.
URL:https://mainesmidcoast.com/event/windjammer-days/
END:VEVENT
BEGIN:VEVENT
DTSTART;VALUE=DATE:20240614
DTEND;VALUE=DATE:20240617
DTSTAMP:20260423T200639
CREATED:20240515T213150Z
LAST-MODIFIED:20240515T213150Z
UID:10000006-1718323200-1718582399@mainesmidcoast.com
SUMMARY:Camden's Jazz in June
DESCRIPTION:For anyone who loves great jazz\, few events rival the renowned Jazz in June festival in Camden. Top jazz artists will play at the beautiful waterfront\, on the town green\, and at the magnificent Camden Opera House. There will be free lunchtime concerts and cocktail-hour sets in town.
URL:https://mainesmidcoast.com/event/camdens-jazz-in-june/
LOCATION:Camden Opera House and other venues\, Camden\, Maine
END:VEVENT
BEGIN:VEVENT
DTSTART;TZID=America/New_York:20240406T090000
DTEND;TZID=America/New_York:20240406T090000
DTSTAMP:20260423T200639
CREATED:20240125T190033Z
LAST-MODIFIED:20240314T164410Z
UID:10000003-1712394000-1712394000@mainesmidcoast.com
SUMMARY:Passagassawakeag River Race
DESCRIPTION:A relatively easy early-season whitewater run. Conveniently located and easily shuttled\, beginner and family-friendly at low and medium levels.
URL:https://mainesmidcoast.com/event/passagassawakeag-river-race/
END:VEVENT
BEGIN:VEVENT
DTSTART;TZID=America/New_York:20240306T163000
DTEND;TZID=America/New_York:20240306T163000
DTSTAMP:20260423T200639
CREATED:20240125T185948Z
LAST-MODIFIED:20240207T212115Z
UID:10000002-1709742600-1709742600@mainesmidcoast.com
SUMMARY:Test Event 2
DESCRIPTION:Another test event. Coming soon!
URL:https://mainesmidcoast.com/event/test-event-2/
END:VEVENT
BEGIN:VEVENT
DTSTART;TZID=America/New_York:20240305T100000
DTEND;TZID=America/New_York:20240305T100000
DTSTAMP:20260423T200639
CREATED:20240125T185800Z
LAST-MODIFIED:20240207T212132Z
UID:10000001-1709632800-1709632800@mainesmidcoast.com
SUMMARY:Test Event 1
DESCRIPTION:A test event\, occurring at some point.
URL:https://mainesmidcoast.com/event/test-event-1/
END:VEVENT
END:VCALENDAR