BEGIN:VCALENDAR
VERSION:2.0
PRODID:-//Maine&#039;s MidCoast &amp; Islands - ECPv6.15.20//NONSGML v1.0//EN
CALSCALE:GREGORIAN
METHOD:PUBLISH
X-WR-CALNAME:Maine&#039;s MidCoast &amp; Islands
X-ORIGINAL-URL:https://mainesmidcoast.com
X-WR-CALDESC:Events for Maine&#039;s MidCoast &amp; Islands
REFRESH-INTERVAL;VALUE=DURATION:PT1H
X-Robots-Tag:noindex
X-PUBLISHED-TTL:PT1H
BEGIN:VTIMEZONE
TZID:America/New_York
BEGIN:DAYLIGHT
TZOFFSETFROM:-0500
TZOFFSETTO:-0400
TZNAME:EDT
DTSTART:20230312T070000
END:DAYLIGHT
BEGIN:STANDARD
TZOFFSETFROM:-0400
TZOFFSETTO:-0500
TZNAME:EST
DTSTART:20231105T060000
END:STANDARD
BEGIN:DAYLIGHT
TZOFFSETFROM:-0500
TZOFFSETTO:-0400
TZNAME:EDT
DTSTART:20240310T070000
END:DAYLIGHT
BEGIN:STANDARD
TZOFFSETFROM:-0400
TZOFFSETTO:-0500
TZNAME:EST
DTSTART:20241103T060000
END:STANDARD
BEGIN:DAYLIGHT
TZOFFSETFROM:-0500
TZOFFSETTO:-0400
TZNAME:EDT
DTSTART:20250309T070000
END:DAYLIGHT
BEGIN:STANDARD
TZOFFSETFROM:-0400
TZOFFSETTO:-0500
TZNAME:EST
DTSTART:20251102T060000
END:STANDARD
BEGIN:DAYLIGHT
TZOFFSETFROM:-0500
TZOFFSETTO:-0400
TZNAME:EDT
DTSTART:20260308T070000
END:DAYLIGHT
BEGIN:STANDARD
TZOFFSETFROM:-0400
TZOFFSETTO:-0500
TZNAME:EST
DTSTART:20261101T060000
END:STANDARD
END:VTIMEZONE
BEGIN:VEVENT
DTSTART;VALUE=DATE:20250131
DTEND;VALUE=DATE:20250203
DTSTAMP:20260423T232342
CREATED:20250123T204434Z
LAST-MODIFIED:20250123T204607Z
UID:10000020-1738281600-1738540799@mainesmidcoast.com
SUMMARY:U.S. National Toboggan Championships
DESCRIPTION:The U.S. National Toboggan Championships are among the most thrilling outdoor winter events in New England. Gather around and enjoy watching as determined and often costumed racers speed down a 400-foot wooden chute at the Camden Snow Bowl. Located by Hosmer Pond near the base of Camden Snow Bowl\, the large crowd of locals and visitors will be bundled up and gathered around fire pits while the race excitement unfolds.
URL:https://mainesmidcoast.com/event/u-s-national-toboggan-championships/
LOCATION:Camden Snow Bowl\, 20 Barnestown Road\, Camden\, 04843\, United States
END:VEVENT
BEGIN:VEVENT
DTSTART;VALUE=DATE:20241026
DTEND;VALUE=DATE:20241028
DTSTAMP:20260423T232342
CREATED:20241017T191005Z
LAST-MODIFIED:20241017T205016Z
UID:10000015-1729900800-1730073599@mainesmidcoast.com
SUMMARY:Fall Chairlift Rides at the Camden Snow Bowl
DESCRIPTION:Chairlift Rides — 10 a.m.–2 p.m. \nPurchase tickets same-day\, upon arrival. No pets allowed on lifts • Dress for the weather • Appropriate walking or hiking footwear a must • Must be able to get off the lift at the top and walk down steps • Option to reload and ride the chairlift back down or hike down • Approx. 25-minute chairlift ride one way \nPancake Breakfast — 8–10 a.m. \nSki Patrol Brick Oven Pizza — 11 a.m.–2 p.m. \n 
URL:https://mainesmidcoast.com/event/fall-chairlift-rides-at-the-camden-snow-bowl/
LOCATION:Camden Snow Bowl\, 20 Barnestown Road\, Camden\, 04843\, United States
END:VEVENT
END:VCALENDAR