BEGIN:VCALENDAR
VERSION:2.0
PRODID:-//Maine&#039;s MidCoast &amp; Islands - ECPv6.15.20//NONSGML v1.0//EN
CALSCALE:GREGORIAN
METHOD:PUBLISH
X-WR-CALNAME:Maine&#039;s MidCoast &amp; Islands
X-ORIGINAL-URL:https://mainesmidcoast.com
X-WR-CALDESC:Events for Maine&#039;s MidCoast &amp; Islands
REFRESH-INTERVAL;VALUE=DURATION:PT1H
X-Robots-Tag:noindex
X-PUBLISHED-TTL:PT1H
BEGIN:VTIMEZONE
TZID:America/New_York
BEGIN:DAYLIGHT
TZOFFSETFROM:-0500
TZOFFSETTO:-0400
TZNAME:EDT
DTSTART:20230312T070000
END:DAYLIGHT
BEGIN:STANDARD
TZOFFSETFROM:-0400
TZOFFSETTO:-0500
TZNAME:EST
DTSTART:20231105T060000
END:STANDARD
BEGIN:DAYLIGHT
TZOFFSETFROM:-0500
TZOFFSETTO:-0400
TZNAME:EDT
DTSTART:20240310T070000
END:DAYLIGHT
BEGIN:STANDARD
TZOFFSETFROM:-0400
TZOFFSETTO:-0500
TZNAME:EST
DTSTART:20241103T060000
END:STANDARD
BEGIN:DAYLIGHT
TZOFFSETFROM:-0500
TZOFFSETTO:-0400
TZNAME:EDT
DTSTART:20250309T070000
END:DAYLIGHT
BEGIN:STANDARD
TZOFFSETFROM:-0400
TZOFFSETTO:-0500
TZNAME:EST
DTSTART:20251102T060000
END:STANDARD
END:VTIMEZONE
BEGIN:VEVENT
DTSTART;VALUE=DATE:20240824
DTEND;VALUE=DATE:20240902
DTSTAMP:20260423T232300
CREATED:20240517T192517Z
LAST-MODIFIED:20240517T193812Z
UID:10000010-1724457600-1725235199@mainesmidcoast.com
SUMMARY:Thomas Point Beach Bluegrass Festival
DESCRIPTION:As one of the longest-running bluegrass festivals in New England\, visitors can anticipate hearing performances by renowned musicians and bands from across the country. The festival’s main stage throughout each day while fans can also enjoy workshops and jam sessions in informal settings. The natural beauty of the Thomas Point Beach Campground is a stunning backdrop for the festival.
URL:https://mainesmidcoast.com/event/thomas-point-beach-bluegrass-festival/
LOCATION:Thomas Point Beach\, 29 Meadow Rd\, Brunswick\, ME\, 04011\, United States
END:VEVENT
END:VCALENDAR